BEGIN:VCALENDAR
VERSION:2.0
PRODID:-//eventon.com NONSGML v1.0//EN
CALSCALE:GREGORIAN
METHOD:PUBLISH
BEGIN:VEVENT
UID:69ea4b482e2ef
DTSTAMP:20260423T163936Z
DTSTART:20190309
DTEND:20190310
LOCATION:MacBens Training Centre\,  Accra
SUMMARY:IOSH Working Safely – UK
DESCRIPTION:IOSH Working Safely – UK\nhttps://macbensmultiresources.com/e
 vents/iosh-working-safely-uk/
URL:https://macbensmultiresources.com/events/iosh-working-safely-uk/
END:VEVENT
END:VCALENDAR