BEGIN:VCALENDAR
VERSION:2.0
PRODID:-//eventon.com NONSGML v1.0//EN
CALSCALE:GREGORIAN
METHOD:PUBLISH
BEGIN:VEVENT
UID:69ea344e35f5f
DTSTAMP:20260423T150134Z
DTSTART:20190308
DTEND:20190309
LOCATION:
SUMMARY:IOSH Managing Safely – UK
DESCRIPTION:IOSH Managing Safely – UK\nhttps://macbensmultiresources.com/
 events/iosh-managing-safely-uk/
URL:https://macbensmultiresources.com/events/iosh-managing-safely-uk/
END:VEVENT
END:VCALENDAR