BEGIN:VCALENDAR
VERSION:2.0
PRODID:-//eventon.com NONSGML v1.0//EN
CALSCALE:GREGORIAN
METHOD:PUBLISH
BEGIN:VEVENT
UID:69ea2fc39f343
DTSTAMP:20260423T144211Z
DTSTART:20190322
DTEND:20190323
LOCATION:MacBens Training Centre\,  Accra
SUMMARY:IOSH Level 3 Certificate in Safety and Health for Business – UK
DESCRIPTION:IOSH Level 3 Certificate in Safety and Health for Business – 
 UK\nhttps://macbensmultiresources.com/events/iosh-level-3-certificate-in-sa
 fety-and-health-for-business-uk/
URL:https://macbensmultiresources.com/events/iosh-level-3-certificate-in-safety-and-health-for-business-uk/
END:VEVENT
END:VCALENDAR