BEGIN:VCALENDAR
VERSION:2.0
PRODID:-//eventon.com NONSGML v1.0//EN
CALSCALE:GREGORIAN
METHOD:PUBLISH
BEGIN:VEVENT
UID:69ea0623df709
DTSTAMP:20260423T114435Z
DTSTART:20190311
DTEND:20190312
LOCATION:MacBens Training Centre\,  Accra
SUMMARY:BSC International Diploma in Occupational Safety and Health (Level 6 Qualification) – UK
DESCRIPTION:BSC International Diploma in Occupational Safety and Health (Le
 vel 6 Qualification) – UK\nhttps://macbensmultiresources.com/events/bsc-i
 nternational-diploma-in-occupational-safety-and-health-level-6-qualificatio
 n-uk/
URL:https://macbensmultiresources.com/events/bsc-international-diploma-in-occupational-safety-and-health-level-6-qualification-uk/
END:VEVENT
END:VCALENDAR