BEGIN:VCALENDAR
VERSION:2.0
PRODID:-//eventon.com NONSGML v1.0//EN
CALSCALE:GREGORIAN
METHOD:PUBLISH
BEGIN:VEVENT
UID:69e9f2dd19769
DTSTAMP:20260423T102221Z
DTSTART:20190427
DTEND:20190428
LOCATION:MacBens Training Centre\,  Accra
SUMMARY:BSC International Certificate in Occupational Safety and Health (Level 3 Qualification) – UK
DESCRIPTION:5 Weekends\nhttps://macbensmultiresources.com/events/bsc-intern
 ational-certificate-in-occupational-safety-and-health-level-3-qualification
 -uk/
URL:https://macbensmultiresources.com/events/bsc-international-certificate-in-occupational-safety-and-health-level-3-qualification-uk/
END:VEVENT
END:VCALENDAR