BEGIN:VCALENDAR
VERSION:2.0
PRODID:-//eventon.com NONSGML v1.0//EN
CALSCALE:GREGORIAN
METHOD:PUBLISH
BEGIN:VEVENT
UID:69e9f292b298e
DTSTAMP:20260423T102106Z
DTSTART:20190311
DTEND:20190312
LOCATION:
SUMMARY:ISO 45001 Occupational Health & Safety Management System - Lead Auditor – UK (IRCA & IRCA Certified)
DESCRIPTION:ISO 45001 Occupational Health & Safety Management System - Lead
  Auditor – UK (IRCA & IRCA Certified)\nhttps://macbensmultiresources.com/
 events/iso-45001-occupational-health-safety-management-system-lead-auditor-
 uk-irca-irca-certified/
URL:https://macbensmultiresources.com/events/iso-45001-occupational-health-safety-management-system-lead-auditor-uk-irca-irca-certified/
END:VEVENT
END:VCALENDAR