BEGIN:VCALENDAR
VERSION:2.0
PRODID:-//eventon.com NONSGML v1.0//EN
CALSCALE:GREGORIAN
METHOD:PUBLISH
BEGIN:VEVENT
UID:69e9daca84657
DTSTAMP:20260423T083938Z
DTSTART:20190318
DTEND:20190319
LOCATION:MacBens Training Centre\,  Accra
SUMMARY:ISO 9001 Quality Management System – Lead Auditor – UK (IRCA & IRCA Certified)
DESCRIPTION:ISO 9001 Quality Management System – Lead Auditor – UK (IRC
 A & IRCA Certified)\nhttps://macbensmultiresources.com/events/iso-9001-qual
 ity-management-system-lead-auditor-uk-irca-irca-certified/
URL:https://macbensmultiresources.com/events/iso-9001-quality-management-system-lead-auditor-uk-irca-irca-certified/
END:VEVENT
END:VCALENDAR