BEGIN:VCALENDAR
VERSION:2.0
PRODID:-//eventon.com NONSGML v1.0//EN
CALSCALE:GREGORIAN
METHOD:PUBLISH
BEGIN:VEVENT
UID:69e762aa785ff
DTSTAMP:20260421T114234Z
DTSTART:20190325
DTEND:20190326
LOCATION:MacBens Training Centre\,  Accra
SUMMARY:ISO 14001 Environmental Management Lead Auditor – UK (IRCA & IRCA Certified)
DESCRIPTION:ISO 14001 Environmental Management Lead Auditor – UK (IRCA & 
 IRCA Certified)\nhttps://macbensmultiresources.com/events/iso-14001-environ
 mental-management-lead-auditor-uk-irca-irca-certified/
URL:https://macbensmultiresources.com/events/iso-14001-environmental-management-lead-auditor-uk-irca-irca-certified/
END:VEVENT
END:VCALENDAR