BEGIN:VCALENDAR
VERSION:2.0
PRODID:-//eventon.com NONSGML v1.0//EN
CALSCALE:GREGORIAN
METHOD:PUBLISH
BEGIN:VEVENT
UID:69e78e81bb21c
DTSTAMP:20260421T144937Z
DTSTART:20190311
DTEND:20190312
LOCATION:MacBens Training Centre\,  Accra
SUMMARY:ISO 27001 Information Security Management System – Lead Auditor – UK (IRCA & IRCA Certified)
DESCRIPTION:ISO 27001 Information Security Management System – Lead Audit
 or – UK (IRCA & IRCA Certified)\nhttps://macbensmultiresources.com/events
 /iso-27001-information-security-management-system-lead-auditor-uk-irca-irca
 -certified/
URL:https://macbensmultiresources.com/events/iso-27001-information-security-management-system-lead-auditor-uk-irca-irca-certified/
END:VEVENT
END:VCALENDAR