BEGIN:VCALENDAR
VERSION:2.0
PRODID:-//eventon.com NONSGML v1.0//EN
CALSCALE:GREGORIAN
METHOD:PUBLISH
BEGIN:VEVENT
UID:69e7932761c6c
DTSTAMP:20260421T150927Z
DTSTART:20190325
DTEND:20190326
LOCATION:MacBens Training Centre\,  Accra
SUMMARY:ISO 50001 Energy Management System - Lead Auditor – UK (IRCA & IRCA Certified)
DESCRIPTION:ISO 50001 Energy Management System - Lead Auditor – UK (IRCA 
 & IRCA Certified)\nhttps://macbensmultiresources.com/events/iso-50001-energ
 y-management-system-lead-auditor-uk-irca-irca-certified/
URL:https://macbensmultiresources.com/events/iso-50001-energy-management-system-lead-auditor-uk-irca-irca-certified/
END:VEVENT
END:VCALENDAR