BEGIN:VCALENDAR
VERSION:2.0
PRODID:-//eventon.com NONSGML v1.0//EN
CALSCALE:GREGORIAN
METHOD:PUBLISH
BEGIN:VEVENT
UID:69e4ccadd8ebf
DTSTAMP:20260419T123805Z
DTSTART:20190504
DTEND:20190505
LOCATION:
SUMMARY:Basic First Aid – (American Safety and Health Institute)
DESCRIPTION:Basic First Aid – (American Safety and Health Institute)\nhtt
 ps://macbensmultiresources.com/events/basic-first-aid-american-safety-and-h
 ealth-institute/var/ri-1.l-L1
URL:https://macbensmultiresources.com/events/basic-first-aid-american-safety-and-health-institute/var/ri-1.l-L1
END:VEVENT
END:VCALENDAR